BEGIN:VCALENDAR
VERSION:2.0
PRODID:-//The Print Club of Cleveland - ECPv6.15.20//NONSGML v1.0//EN
CALSCALE:GREGORIAN
METHOD:PUBLISH
X-WR-CALNAME:The Print Club of Cleveland
X-ORIGINAL-URL:https://www.printclubcleveland.org
X-WR-CALDESC:Events for The Print Club of Cleveland
REFRESH-INTERVAL;VALUE=DURATION:PT1H
X-Robots-Tag:noindex
X-PUBLISHED-TTL:PT1H
BEGIN:VTIMEZONE
TZID:America/New_York
BEGIN:DAYLIGHT
TZOFFSETFROM:-0500
TZOFFSETTO:-0400
TZNAME:EDT
DTSTART:20240310T070000
END:DAYLIGHT
BEGIN:STANDARD
TZOFFSETFROM:-0400
TZOFFSETTO:-0500
TZNAME:EST
DTSTART:20241103T060000
END:STANDARD
BEGIN:DAYLIGHT
TZOFFSETFROM:-0500
TZOFFSETTO:-0400
TZNAME:EDT
DTSTART:20250309T070000
END:DAYLIGHT
BEGIN:STANDARD
TZOFFSETFROM:-0400
TZOFFSETTO:-0500
TZNAME:EST
DTSTART:20251102T060000
END:STANDARD
BEGIN:DAYLIGHT
TZOFFSETFROM:-0500
TZOFFSETTO:-0400
TZNAME:EDT
DTSTART:20260308T070000
END:DAYLIGHT
BEGIN:STANDARD
TZOFFSETFROM:-0400
TZOFFSETTO:-0500
TZNAME:EST
DTSTART:20261101T060000
END:STANDARD
END:VTIMEZONE
BEGIN:VEVENT
DTSTART;TZID=America/New_York:20250607T083000
DTEND;TZID=America/New_York:20250607T193000
DTSTAMP:20260423T083501
CREATED:20250508T195310Z
LAST-MODIFIED:20250508T195310Z
UID:5336-1749285000-1749324600@www.printclubcleveland.org
SUMMARY:Member Event - Pittsburgh Trip
DESCRIPTION:Join fellow Print Club members on Saturday\, June 7\, for camaraderie and an enriching art-world experience during a day trip to Pittsburgh! We will visit Artist Image Resource and enjoy a tour from founder and director Robert Beckman and Print Club member Michael Loderstedt\, followed by a catered lunch in the upstairs gallery. We’ll then travel to The Warhol for a guided tour of the exhibition Good Business: Andy Warhol’s Screenprints and a visit to the museum’s archives to view selected objects. Our journey ends with a visit to the Troy Hill Art Houses\, a site dedicated to re-imagined domestic spaces as permanent artworks and conceptual galleries or free time at Pittsburgh’s Three Rivers Arts Festival\, happening nearby. \nThe coach leaves at 8:30am on Saturday\, June 7 from the Village Square Shopping Area on Chagrin Boulevard and will arrive back in Cleveland at approximately 7:30 p.m.\, with wine and snacks provided on the return journey. The cost is $120 per person with a maximum of 40 participants and a minimum of 30. Full details and itinerary provided upon RSVP.
URL:https://www.printclubcleveland.org/event/member-event-pittsburgh-trip/
LOCATION:OH
CATEGORIES:Member Only
ATTACH;FMTTYPE=image/jpeg:https://www.printclubcleveland.org/wp-content/uploads/2025/05/Alisha-Wormsely-The-Space-I-Am-In-Arms-Wide.jpg
END:VEVENT
END:VCALENDAR