BEGIN:VCALENDAR
VERSION:2.0
PRODID:-//The Print Club of Cleveland - ECPv6.15.20//NONSGML v1.0//EN
CALSCALE:GREGORIAN
METHOD:PUBLISH
X-WR-CALNAME:The Print Club of Cleveland
X-ORIGINAL-URL:https://www.printclubcleveland.org
X-WR-CALDESC:Events for The Print Club of Cleveland
REFRESH-INTERVAL;VALUE=DURATION:PT1H
X-Robots-Tag:noindex
X-PUBLISHED-TTL:PT1H
BEGIN:VTIMEZONE
TZID:America/New_York
BEGIN:DAYLIGHT
TZOFFSETFROM:-0500
TZOFFSETTO:-0400
TZNAME:EDT
DTSTART:20240310T070000
END:DAYLIGHT
BEGIN:STANDARD
TZOFFSETFROM:-0400
TZOFFSETTO:-0500
TZNAME:EST
DTSTART:20241103T060000
END:STANDARD
BEGIN:DAYLIGHT
TZOFFSETFROM:-0500
TZOFFSETTO:-0400
TZNAME:EDT
DTSTART:20250309T070000
END:DAYLIGHT
BEGIN:STANDARD
TZOFFSETFROM:-0400
TZOFFSETTO:-0500
TZNAME:EST
DTSTART:20251102T060000
END:STANDARD
BEGIN:DAYLIGHT
TZOFFSETFROM:-0500
TZOFFSETTO:-0400
TZNAME:EDT
DTSTART:20260308T070000
END:DAYLIGHT
BEGIN:STANDARD
TZOFFSETFROM:-0400
TZOFFSETTO:-0500
TZNAME:EST
DTSTART:20261101T060000
END:STANDARD
END:VTIMEZONE
BEGIN:VEVENT
DTSTART;TZID=America/New_York:20250418T180000
DTEND;TZID=America/New_York:20250418T193000
DTSTAMP:20260423T123332
CREATED:20250307T200612Z
LAST-MODIFIED:20250331T195536Z
UID:5113-1744999200-1745004600@www.printclubcleveland.org
SUMMARY:Member Event - Studio Visit with Artist Miguel A. Aragón
DESCRIPTION:Join executive director Nicole Donnelly for an intimate conversation with master printmaker and professor Miguel Aragón\, one of three remarkable artists who’ll be visiting the Morgan as part of the Collaborative Residency for Artists and Apprentices. This grant\, funded by the National Endowment for the Arts\, aims to introduce leading contemporary artists\, all of them non-papermakers\, to the transformative medium of hand papermaking. “Using the idea of erasure as language\,” says Aragón\, “I explore subjects of violence\, memory\, perception\, and the multiple\, through processes that are reductive. I endeavor to illustrate how erasure\, however violent and destructive\, can also be an act of creation.” \nPhoto credit: Imprinting History\, 2017. Miguel Aragón (Mexican\, active United States\, born 1978)
URL:https://www.printclubcleveland.org/event/studio-visit-with-artist-miguel-a-aragon/
LOCATION:Morgan Art of Papermaking Conservancy\, 1754 E. 47th St\, Cleveland\, OH\, 44103
CATEGORIES:Member Only
ATTACH;FMTTYPE=image/jpeg:https://www.printclubcleveland.org/wp-content/uploads/2025/03/Miguel-Aragon_for_Morgan_Event.jpg
END:VEVENT
END:VCALENDAR